BEGIN:VCALENDAR
VERSION:2.0
PRODID:-//ChamberMaster//Event Calendar 2.0//EN
METHOD:PUBLISH
X-PUBLISHED-TTL:P3D
REFRESH-INTERVAL:P3D
CALSCALE:GREGORIAN
BEGIN:VEVENT
DTSTART:20260429T220000Z
DTEND:20260430T000000Z
X-MICROSOFT-CDO-ALLDAYEVENT:FALSE
SUMMARY:Seminole County Citizen's Academy: Emergency Management
DESCRIPTION:2026 CITIZEN'S ACADEMY\n\nSeminole County is excited to launch the 2026 Citizen's Academy event series its second year of interactive\, behind-the-scenes experiences designed just for our community.\n\n\nThis six-event series is a free\, family-friendly open house where you can tour County facilities\, meet the teams who serve the community\, and see how things work.\n\n\n\nWho: Families and residents of all ages are welcome to attend!\n\nWhen: Stop in at any time during the open house events no set schedule or time commitment required. Registration is not required.\n \nEMERGENCY MANAGEMENT\n\nWednesday\, April 29\, 6 8 p.m.\n\nSeminole County Animal Services\, 232 Eslinger Way\, Sanford\n\n\n\nDiscover how the County stays prepared to respond to natural disasters and emergencies. Meet the adoptable dogs and cats available at Seminole County Animal Services\, while also learning about 911 administration and emergency response coordination. \n\n\n\nLearn more or explore additional events at www.seminolecountyfl.gov/academy.
X-ALT-DESC;FMTTYPE=text/html:<div><strong>2026 CITIZEN&#39\;S ACADEMY</strong><br />\nSeminole County is excited to launch the 2026 Citizen&rsquo\;s Academy event series&mdash\;its second year of interactive\, behind-the-scenes experiences designed just for our community.</div>\n<br />\nThis six-event series is a free\, family-friendly open house where you can tour County facilities\, meet the teams who serve the community\, and see how things work.<br />\n<br />\nWho: Families and residents of all ages are welcome to attend!<br />\nWhen: Stop in at any time during the open house events&mdash\;no set schedule or time commitment required. Registration is not required.\n<div>&nbsp\;\n<div><strong>EMERGENCY MANAGEMENT</strong><br />\nWednesday\, April 29\, 6&ndash\;8 p.m.<br />\nSeminole County Animal Services\, 232 Eslinger Way\, Sanford</div>\n\n<div><br />\nDiscover how the County stays prepared to respond to natural disasters and emergencies. Meet the adoptable dogs and cats available at Seminole County Animal Services\, while also learning about 911 administration and emergency response coordination.&nbsp\;</div>\n</div>\n<br />\nLearn more or explore additional events at&nbsp\;<a href="http://www.seminolecountyfl.gov/academy?fbclid=IwZXh0bgNhZW0CMTAAYnJpZBExSnJ3a3Y5TDN4WWExTzFrSnNydGMGYXBwX2lkEDIyMjAzOTE3ODgyMDA4OTIAAR57Pl5Zm24XyRt_7uCfQ_YuEKXxRhdI1JrMiDE8y6lvbYB2gZaK4fER5MJnUg_aem__RZdcsGhTlf_rLugbHgikA" target="_blank"><strong>www.seminolecountyfl.gov/academy</strong></a>.<br />\n<br />\n&nbsp\;
LOCATION:Seminole County Animal Services\, 232 Eslinger Way\, Sanford
UID:e.2138.42471
SEQUENCE:3
DTSTAMP:20260421T060229Z
URL:http://seminolechamber-gzcms.preview.gochambermaster.com/events/details/seminole-county-citizen-s-academy-emergency-management-42471
END:VEVENT

END:VCALENDAR
